BEGIN:VCALENDAR
VERSION:2.0
PRODID:-//eventon.com NONSGML v1.0//EN
CALSCALE:GREGORIAN
METHOD:PUBLISH
BEGIN:VEVENT
UID:69e9d65f59a22
DTSTAMP:20260423T082047Z
DTSTART:20260331T180000Z
DTEND:20260402T210000Z
LOCATION:Alexandria Museum of Art 933 2nd Street
SUMMARY:Muse World Building Camp
DESCRIPTION:Muse Teens will create their own imaginary worlds complete with
  a history\,  geography and ecology\,  just like fantasy and sci-fi writers
  do! We’ll draw character studies and create a backstory for these brand 
 new worlds! Registration is required and space is limited.\nhttps://themuse
 um.org/events/muse-world-building-camp/
URL:https://themuseum.org/events/muse-world-building-camp/
END:VEVENT
END:VCALENDAR