BEGIN:VCALENDAR
VERSION:2.0
PRODID:-//eventon.com NONSGML v1.0//EN
CALSCALE:GREGORIAN
METHOD:PUBLISH
BEGIN:VEVENT
UID:69e73e18dd280
DTSTAMP:20260421T090632Z
DTSTART:20251108T000000Z
DTEND:20251108T055900Z
LOCATION:Alexandria Museum of Art 933 2nd Street
SUMMARY:The Saratoga Collection: Opening Reception
DESCRIPTION:The Alexandria Museum of Art presents the first public viewing 
 of the Saratoga Collection. Donated to the museum by Marcel L. Wisznia and 
 curated by Terrence Sanders-Smith\,  the Saratoga Collection was previously
  housed in the Saratoga Building located at 212 Loyola Ave in New Orleans a
 nd features works created by[..]\nhttps://themuseum.org/events/the-saratoga
 -collection-opening-reception/
URL:https://themuseum.org/events/the-saratoga-collection-opening-reception/
END:VEVENT
END:VCALENDAR