BEGIN:VCALENDAR
VERSION:2.0
PRODID:-//eventon.com NONSGML v1.0//EN
CALSCALE:GREGORIAN
METHOD:PUBLISH
BEGIN:VEVENT
UID:69e8893b15688
DTSTAMP:20260422T083923Z
DTSTART:20240420T223000Z
DTEND:20240421T003000Z
LOCATION:Alexandria Museum of Art 933 2nd Street
SUMMARY:Performing Art Series - Katrina Cox Concert
DESCRIPTION:Join AMoA for an evening jazz concert with Katrina L. Cox accom
 panied on piano by Christina Mathis. $16 AMoA Members; $21 Non-Members.\nht
 tps://themuseum.org/events/katrina-cox-concert/
URL:https://themuseum.org/events/katrina-cox-concert/
END:VEVENT
END:VCALENDAR