BEGIN:VCALENDAR
VERSION:2.0
PRODID:-//eventon.com NONSGML v1.0//EN
CALSCALE:GREGORIAN
METHOD:PUBLISH
BEGIN:VEVENT
UID:69e735f23c9b6
DTSTAMP:20260421T083146Z
DTSTART:20231010T223000Z
DTEND:20231011T000000Z
LOCATION:Alexandria Museum of Art 933 2nd Street
SUMMARY:Creative Round Table
DESCRIPTION:Are you a Cenla creative? Join us for Creative Round Table! Bei
 ng an artist can be isolating. We can lift each other up! Do you want to le
 arn about grants and artist calls\,  process\,  or art business? Let’s ta
 lk about it! No need to register. This is a FREE event!\nhttps://themuseum.
 org/events/creative-round-table-5/
URL:https://themuseum.org/events/creative-round-table-5/
END:VEVENT
END:VCALENDAR