BEGIN:VCALENDAR
VERSION:2.0
PRODID:-//eventon.com NONSGML v1.0//EN
CALSCALE:GREGORIAN
METHOD:PUBLISH
BEGIN:VEVENT
UID:69e748f1dac3a
DTSTAMP:20260421T095249Z
DTSTART:20230401T150000Z
DTEND:20230401T210000Z
LOCATION:Alexandria Museum of Art 933 2nd Street
SUMMARY:Adult Workhop - Printmaking Basics
DESCRIPTION:Adult Workhop - Printmaking Basics\nhttps://themuseum.org/event
 s/adult-workhop-printmaking-basics/
URL:https://themuseum.org/events/adult-workhop-printmaking-basics/
END:VEVENT
END:VCALENDAR