BEGIN:VCALENDAR
VERSION:2.0
PRODID:-//eventon.com NONSGML v1.0//EN
CALSCALE:GREGORIAN
METHOD:PUBLISH
BEGIN:VEVENT
UID:69e7362b9cd8a
DTSTAMP:20260421T083243Z
DTSTART:20220705
DTEND:20220706
LOCATION:
SUMMARY:Launchpad
DESCRIPTION:Launchpad\nhttps://themuseum.org/events/launchpad/
URL:https://themuseum.org/events/launchpad/
END:VEVENT
END:VCALENDAR